BEGIN:VCALENDAR
VERSION:2.0
PRODID:-//TC Rhein-Wied - ECPv6.15.19//NONSGML v1.0//EN
CALSCALE:GREGORIAN
METHOD:PUBLISH
X-ORIGINAL-URL:https://tc-rhein-wied.de
X-WR-CALDESC:Veranstaltungen für TC Rhein-Wied
REFRESH-INTERVAL;VALUE=DURATION:PT1H
X-Robots-Tag:noindex
X-PUBLISHED-TTL:PT1H
BEGIN:VTIMEZONE
TZID:Europe/Berlin
BEGIN:DAYLIGHT
TZOFFSETFROM:+0100
TZOFFSETTO:+0200
TZNAME:CEST
DTSTART:20250330T010000
END:DAYLIGHT
BEGIN:STANDARD
TZOFFSETFROM:+0200
TZOFFSETTO:+0100
TZNAME:CET
DTSTART:20251026T010000
END:STANDARD
BEGIN:DAYLIGHT
TZOFFSETFROM:+0100
TZOFFSETTO:+0200
TZNAME:CEST
DTSTART:20260329T010000
END:DAYLIGHT
BEGIN:STANDARD
TZOFFSETFROM:+0200
TZOFFSETTO:+0100
TZNAME:CET
DTSTART:20261025T010000
END:STANDARD
BEGIN:DAYLIGHT
TZOFFSETFROM:+0100
TZOFFSETTO:+0200
TZNAME:CEST
DTSTART:20270328T010000
END:DAYLIGHT
BEGIN:STANDARD
TZOFFSETFROM:+0200
TZOFFSETTO:+0100
TZNAME:CET
DTSTART:20271031T010000
END:STANDARD
END:VTIMEZONE
BEGIN:VEVENT
DTSTART;TZID=Europe/Berlin:20261107T120000
DTEND;TZID=Europe/Berlin:20261107T170000
DTSTAMP:20260420T102458
CREATED:20260303T071601Z
LAST-MODIFIED:20260303T071654Z
UID:6544-1794052800-1794070800@tc-rhein-wied.de
SUMMARY:Herbstwanderung
DESCRIPTION:Liebe Mitglieder und Mitgliederinnen\, \num die Herbststimmung noch zu genießen\, werden wir am Samstag\, den 07.11.2025 eine Wanderung organisieren. \nGeplant ist der Abmarsch für 12:00 Uhr. Nach einer Pause und der Rückkehr in unser Clubhaus werden wir es uns noch mit einer kleinen Stärkung und einem Glas Wein gutgehen lassen. \nFür die Planung bitten wir um Anmeldung bis spätestens Freitag\, den 06.11. über eine Teilnehmerliste am Clubhaus\, telefonische Anmeldungen nehmen Vorstandsmitglieder auch gerne entgegen.
URL:https://tc-rhein-wied.de/event/herbstwanderung/
LOCATION:TC Rhein-Wied\, Talweg 69\, Neuwied\, Rheinland-Pfalz\, 56567\, Deutschland
CATEGORIES:Information
END:VEVENT
END:VCALENDAR